Workbook

Sheet Conv Debt
A1: Chequed
A2: Convertible Debt
A3: Assumed Date of Transaction | E3: =#REF! -> #REF!
G5: Terms
A6: Date | C6: Account | E6: Amount | G6: Int Rate | H6: Discount | I6: Value Cap | J6: Security | L6: Interest | N6: Amt with Interest | P6: Adj Value Cap | R6: Disc Factor | T6: Purchasing Power
A7: 39776 | C7: Babinec, Martin Shareholder Notes Payable | E7: 80000 | G7: 0.08 | H7: 0.25 | I7: 4000000 | J7: Preferred | L7: =ROUND(($E$3-A7)/360*E7*G7,2) -> #REF! | N7: =+E7+L7 -> #REF! | P7: =+I7 -> 4000000 | R7: =+P7/$L$52 -> #REF! | T7: =ROUND((N7)/R7,2) -> #REF! | U7: =+P7/#REF! -> #REF! | V7: =+N7/U7 -> #REF! | W7: =+T7/#REF! -> #REF! | X7: =+W7-V7 -> #REF!
A8: 39776 | C8: Ehinger, George Shareholder Notes Payable | E8: 10000 | G8: 0.08 | H8: 0.25 | I8: 4000000 | J8: Preferred | L8: =ROUND(($E$3-A8)/360*E8*G8,2) -> #REF! | N8: =+E8+L8 -> #REF! | P8: =+I8 -> 4000000 | R8: =+P8/$L$52 -> #REF! | T8: =ROUND((N8)/R8,2) -> #REF! | U8: =+P8/#REF! -> #REF! | V8: =+N8/U8 -> #REF! | W8: =+T8/#REF! -> #REF! | X8: =+W8-V8 -> #REF!
A9: 39776 | C9: Gough, Matthew Shareholder Notes Payable | E9: 20000 | G9: 0.08 | H9: 0.25 | I9: 4000000 | J9: Preferred | L9: =ROUND(($E$3-A9)/360*E9*G9,2) -> #REF! | N9: =+E9+L9 -> #REF! | P9: =+I9 -> 4000000 | R9: =+P9/$L$52 -> #REF! | T9: =ROUND((N9)/R9,2) -> #REF! | U9: =+P9/#REF! -> #REF! | V9: =+N9/U9 -> #REF! | W9: =+T9/#REF! -> #REF! | X9: =+W9-V9 -> #REF!
A10: 39776 | C10: James, Andres Shareholder Notes Payable | E10: 50000 | G10: 0.08 | H10: 0.25 | I10: 4000000 | J10: Preferred | L10: =ROUND(($E$3-A10)/360*E10*G10,2) -> #REF! | N10: =+E10+L10 -> #REF! | P10: =+I10 -> 4000000 | R10: =+P10/$L$52 -> #REF! | T10: =ROUND((N10)/R10,2) -> #REF! | U10: =+P10/#REF! -> #REF! | V10: =+N10/U10 -> #REF! | W10: =+T10/#REF! -> #REF! | X10: =+W10-V10 -> #REF!
A11: 39776 | C11: Joepa Investments, LLC Shareholder Notes Payable | E11: 50000 | G11: 0.08 | H11: 0.25 | I11: 4000000 | J11: Preferred | L11: =ROUND(($E$3-A11)/360*E11*G11,2) -> #REF! | N11: =+E11+L11 -> #REF! | P11: =+I11 -> 4000000 | R11: =+P11/$L$52 -> #REF! | T11: =ROUND((N11)/R11,2) -> #REF! | U11: =+P11/#REF! -> #REF! | V11: =+N11/U11 -> #REF! | W11: =+T11/#REF! -> #REF! | X11: =+W11-V11 -> #REF!
A12: 39776 | C12: Kilburn, Todd Shareholder Notes Payable | E12: 15000 | G12: 0.08 | H12: 0.25 | I12: 4000000 | J12: Preferred | L12: =ROUND(($E$3-A12)/360*E12*G12,2) -> #REF! | N12: =+E12+L12 -> #REF! | P12: =+I12 -> 4000000 | R12: =+P12/$L$52 -> #REF! | T12: =ROUND((N12)/R12,2) -> #REF! | U12: =+P12/#REF! -> #REF! | V12: =+N12/U12 -> #REF! | W12: =+T12/#REF! -> #REF! | X12: =+W12-V12 -> #REF!
A13: 39776 | C13: Moran, Daniel Shareholder Notes Payable | E13: 20000 | G13: 0.08 | H13: 0.25 | I13: 4000000 | J13: Preferred | L13: =ROUND(($E$3-A13)/360*E13*G13,2) -> #REF! | N13: =+E13+L13 -> #REF! | P13: =+I13 -> 4000000 | R13: =+P13/$L$52 -> #REF! | T13: =ROUND((N13)/R13,2) -> #REF! | U13: =+P13/#REF! -> #REF! | V13: =+N13/U13 -> #REF! | W13: =+T13/#REF! -> #REF! | X13: =+W13-V13 -> #REF!
A14: 39868 | C14: James, Andres Shareholder Notes Payable | E14: 25000 | G14: 0.08 | H14: 0.25 | I14: 4000000 | J14: Preferred | L14: =ROUND(($E$3-A14)/360*E14*G14,2) -> #REF! | N14: =+E14+L14 -> #REF! | P14: =+I14 -> 4000000 | R14: =+P14/$L$52 -> #REF! | T14: =ROUND((N14)/R14,2) -> #REF! | U14: =+P14/#REF! -> #REF! | V14: =+N14/U14 -> #REF! | W14: =+T14/#REF! -> #REF! | X14: =+W14-V14 -> #REF!
A15: 39884 | C15: Hollander, Scott Shareholder Notes Payable | E15: 15000 | G15: 0.08 | H15: 0.25 | I15: 4000000 | J15: Preferred | L15: =ROUND(($E$3-A15)/360*E15*G15,2) -> #REF! | N15: =+E15+L15 -> #REF! | P15: =+I15 -> 4000000 | R15: =+P15/$L$52 -> #REF! | T15: =ROUND((N15)/R15,2) -> #REF! | U15: =+P15/#REF! -> #REF! | V15: =+N15/U15 -> #REF! | W15: =+T15/#REF! -> #REF! | X15: =+W15-V15 -> #REF!
A16: 39923 | C16: Joepa Investments, LLC Shareholder Notes Payable | E16: 50000 | G16: 0.08 | H16: 0.25 | I16: 4000000 | J16: Preferred | L16: =ROUND(($E$3-A16)/360*E16*G16,2) -> #REF! | N16: =+E16+L16 -> #REF! | P16: =+I16 -> 4000000 | R16: =+P16/$L$52 -> #REF! | T16: =ROUND((N16)/R16,2) -> #REF! | U16: =+P16/#REF! -> #REF! | V16: =+N16/U16 -> #REF! | W16: =+T16/#REF! -> #REF! | X16: =+W16-V16 -> #REF!
A17: 40030 | C17: Seed Capital of Central NY Shareholder Notes Payable | E17: 150000 | G17: 0.08 | H17: 0.2 | I17: 4000000 | J17: Preferred | L17: =ROUND(($E$3-A17)/360*E17*G17,2) -> #REF! | N17: =+E17+L17 -> #REF! | P17: =+I17 -> 4000000 | R17: =+P17/$L$52 -> #REF! | T17: =ROUND((N17)/R17,2) -> #REF! | U17: =+P17/#REF! -> #REF! | V17: =+N17/U17 -> #REF! | W17: =+T17/#REF! -> #REF! | X17: =+W17-V17 -> #REF!
A18: 40056 | C18: Ali, Nasir Shareholder Notes Payable | E18: 5000 | G18: 0.08 | H18: 0.2 | I18: 4000000 | J18: Preferred | L18: =ROUND(($E$3-A18)/360*E18*G18,2) -> #REF! | N18: =+E18+L18 -> #REF! | P18: =+I18 -> 4000000 | R18: =+P18/$L$52 -> #REF! | T18: =ROUND((N18)/R18,2) -> #REF! | U18: =+P18/#REF! -> #REF! | V18: =+N18/U18 -> #REF! | W18: =+T18/#REF! -> #REF! | X18: =+W18-V18 -> #REF!
... A25: 40079 | C25: Suhowatsky, Stephen Shareholder Notes Payable | E25: 5000 | G25: 0.08 | H25: 0.2 | I25: 4000000 | J25: Preferred | L25: =ROUND(($E$3-A25)/360*E25*G25,2) -> #REF! | N25: =+E25+L25 -> #REF! | P25: =+I25 -> 4000000 | R25: =+P25/$L$52 -> #REF! | T25: =ROUND((N25)/R25,2) -> #REF! | U25: =+P25/#REF! -> #REF! | V25: =+N25/U25 -> #REF! | W25: =+T25/#REF! -> #REF! | X25: =+W25-V25 -> #REF!
A26: 40102 | C26: Fitability Holdings Note Payable | E26: 300000 | G26: 0.0266 | J26: Common | L26: =ROUND(($E$3-A26)/360*E26*G26,2) -> #REF! | N26: =+E26+L26 -> #REF! | R26: 1 | T26: =ROUND((E26+L26)/R26,2) -> #REF! | X26: =+W26-V26 -> 0
A27: 40308 | C27: Cummins, Douglas Shareholder Notes Payable | E27: 25000 | G27: 0.08 | H27: 0.2 | I27: 4000000 | J27: Preferred | L27: =ROUND(($E$3-A27)/360*E27*G27,2) -> #REF! | N27: =+E27+L27 -> #REF! | P27: =+I27 -> 4000000 | R27: =+P27/$L$52 -> #REF! | T27: =ROUND((N27)/R27,2) -> #REF! | U27: =+P27/#REF! -> #REF! | V27: =+N27/U27 -> #REF! | W27: =+T27/#REF! -> #REF! | X27: =+W27-V27 -> #REF!
A28: 40331 | C28: Seed Capital of Central NY Shareholder Notes Payable | E28: 100000 | G28: 0.08 | H28: 0.2 | I28: 4000000 | J28: Preferred | L28: =ROUND(($E$3-A28)/360*E28*G28,2) -> #REF! | N28: =+E28+L28 -> #REF! | P28: =+I28 -> 4000000 | R28: =+P28/$L$52 -> #REF! | T28: =ROUND((N28)/R28,2) -> #REF! | U28: =+P28/#REF! -> #REF! | V28: =+N28/U28 -> #REF! | W28: =+T28/#REF! -> #REF! | X28: =+W28-V28 -> #REF!
A29: 40332 | C29: Babinec, Martin Shareholder Notes Payable | E29: 20000 | G29: 0.08 | H29: 0.2 | I29: 4000000 | J29: Preferred | L29: =ROUND(($E$3-A29)/360*E29*G29,2) -> #REF! | N29: =+E29+L29 -> #REF! | P29: =+I29 -> 4000000 | R29: =+P29/$L$52 -> #REF! | T29: =ROUND((N29)/R29,2) -> #REF! | U29: =+P29/#REF! -> #REF! | V29: =+N29/U29 -> #REF! | W29: =+T29/#REF! -> #REF! | X29: =+W29-V29 -> #REF!
A30: 40332 | C30: James, Andres Shareholder Notes Payable | E30: 25000 | G30: 0.08 | H30: 0.2 | I30: 4000000 | J30: Preferred | L30: =ROUND(($E$3-A30)/360*E30*G30,2) -> #REF! | N30: =+E30+L30 -> #REF! | P30: =+I30 -> 4000000 | R30: =+P30/$L$52 -> #REF! | T30: =ROUND((N30)/R30,2) -> #REF! | U30: =+P30/#REF! -> #REF! | V30: =+N30/U30 -> #REF! | W30: =+T30/#REF! -> #REF! | X30: =+W30-V30 -> #REF!
A31: 40332 | C31: Joepa Investments, LLC Shareholder Notes Payable | E31: 20000 | G31: 0.08 | H31: 0.2 | I31: 4000000 | J31: Preferred | L31: =ROUND(($E$3-A31)/360*E31*G31,2) -> #REF! | N31: =+E31+L31 -> #REF! | P31: =+I31 -> 4000000 | R31: =+P31/$L$52 -> #REF! | T31: =ROUND((N31)/R31,2) -> #REF! | U31: =+P31/#REF! -> #REF! | V31: =+N31/U31 -> #REF! | W31: =+T31/#REF! -> #REF! | X31: =+W31-V31 -> #REF!
A32: 40337 | C32: Flack, James Shareholder Notes Payable | E32: 60000 | G32: 0.08 | H32: 0.2 | I32: 4000000 | J32: Preferred | L32: =ROUND(($E$3-A32)/360*E32*G32,2) -> #REF! | N32: =+E32+L32 -> #REF! | P32: =+I32 -> 4000000 | R32: =+P32/$L$52 -> #REF! | T32: =ROUND((N32)/R32,2) -> #REF! | U32: =+P32/#REF! -> #REF! | V32: =+N32/U32 -> #REF! | W32: =+T32/#REF! -> #REF! | X32: =+W32-V32 -> #REF!
A33: 40337 | C33: Wolpoff, Stuart Shareholder Notes Payable | E33: 50000 | G33: 0.08 | H33: 0.2 | I33: 4000000 | J33: Preferred | L33: =ROUND(($E$3-A33)/360*E33*G33,2) -> #REF! | N33: =+E33+L33 -> #REF! | P33: =+I33 -> 4000000 | R33: =+P33/$L$52 -> #REF! | T33: =ROUND((N33)/R33,2) -> #REF! | U33: =+P33/#REF! -> #REF! | V33: =+N33/U33 -> #REF! | W33: =+T33/#REF! -> #REF! | X33: =+W33-V33 -> #REF!
A34: 40395 | C34: Babinec, Martin Shareholder Notes Payable | E34: 25000 | G34: 0.08 | H34: 0.2 | I34: 4000000 | J34: Preferred | L34: =ROUND(($E$3-A34)/360*E34*G34,2) -> #REF! | N34: =+E34+L34 -> #REF! | P34: =+I34 -> 4000000 | R34: =+P34/$L$52 -> #REF! | T34: =ROUND((N34)/R34,2) -> #REF! | U34: =+P34/#REF! -> #REF! | V34: =+N34/U34 -> #REF! | W34: =+T34/#REF! -> #REF! | X34: =+W34-V34 -> #REF!
A35: 40501 | C35: Rand Capital | E35: 250000 | G35: 0.08 | H35: 0.2 | I35: 4000000 | J35: Preferred | L35: =ROUND(($E$3-A35)/360*E35*G35,2) -> #REF! | N35: =+E35+L35 -> #REF! | P35: =+I35 -> 4000000 | R35: =+P35/$L$52 -> #REF! | T35: =ROUND((N35)/R35,2) -> #REF! | U35: =+P35/#REF! -> #REF! | V35: =+N35/U35 -> #REF! | W35: =+T35/#REF! -> #REF! | X35: =+W35-V35 -> #REF!
A36: 40717 | C36: Babinec, Martin Shareholder Notes Payable | E36: 15000 | G36: 0.08 | H36: 0.15 | I36: 5000000 | J36: Preferred | L36: =ROUND(($E$3-A36)/360*E36*G36,2) -> #REF! | N36: =+E36+L36 -> #REF! | P36: =+I36 -> 5000000 | R36: =+P36/$I$36 -> 1 | T36: =ROUND((N36)/R36,2) -> #REF! | U36: =+P36/#REF! -> #REF! | V36: =+N36/U36 -> #REF! | W36: =+T36/#REF! -> #REF! | X36: =+W36-V36 -> #REF!
A37: 40717 | C37: Seed Capital of Central NY Shareholder Notes Payable | E37: 150000 | G37: 0.08 | H37: 0.15 | I37: 5000000 | J37: Preferred | L37: =ROUND(($E$3-A37)/360*E37*G37,2) -> #REF! | N37: =+E37+L37 -> #REF! | P37: =+I37 -> 5000000 | R37: =+P37/$I$36 -> 1 | T37: =ROUND((N37)/R37,2) -> #REF! | U37: =+P37/#REF! -> #REF! | V37: =+N37/U37 -> #REF! | W37: =+T37/#REF! -> #REF! | X37: =+W37-V37 -> #REF!
A38: 40717 | C38: Greener, William Shareholder Notes Payable | E38: 5000 | G38: 0.08 | H38: 0.15 | I38: 5000000 | J38: Preferred | L38: =ROUND(($E$3-A38)/360*E38*G38,2) -> #REF! | N38: =+E38+L38 -> #REF! | P38: =+I38 -> 5000000 | R38: =+P38/$I$36 -> 1 | T38: =ROUND((N38)/R38,2) -> #REF! | U38: =+P38/#REF! -> #REF! | V38: =+N38/U38 -> #REF! | W38: =+T38/#REF! -> #REF! | X38: =+W38-V38 -> #REF!
A39: 40717 | C39: Rand Capital | E39: 250000 | G39: 0.08 | H39: 0.15 | I39: 5000000 | J39: Preferred | L39: =ROUND(($E$3-A39)/360*E39*G39,2) -> #REF! | N39: =+E39+L39 -> #REF! | P39: =+I39 -> 5000000 | R39: =+P39/$I$36 -> 1 | T39: =ROUND((N39)/R39,2) -> #REF! | U39: =+P39/#REF! -> #REF! | V39: =+N39/U39 -> #REF! | W39: =+T39/#REF! -> #REF! | X39: =+W39-V39 -> #REF!
A40: 40717 | C40: Glodberg, Leonard and Harlean | E40: 25000 | G40: 0.08 | H40: 0.15 | I40: 5000000 | J40: Preferred | L40: =ROUND(($E$3-A40)/360*E40*G40,2) -> #REF! | N40: =+E40+L40 -> #REF! | P40: =+I40 -> 5000000 | R40: =+P40/$I$36 -> 1 | T40: =ROUND((N40)/R40,2) -> #REF! | U40: =+P40/#REF! -> #REF! | V40: =+N40/U40 -> #REF! | W40: =+T40/#REF! -> #REF! | X40: =+W40-V40 -> #REF!
A41: 40717 | C41: Rock Cut, LLC | E41: 25000 | G41: 0.08 | H41: 0.15 | I41: 5000000 | J41: Preferred | L41: =ROUND(($E$3-A41)/360*E41*G41,2) -> #REF! | N41: =+E41+L41 -> #REF! | P41: =+I41 -> 5000000 | R41: =+P41/$I$36 -> 1 | T41: =ROUND((N41)/R41,2) -> #REF! | U41: =+P41/#REF! -> #REF! | V41: =+N41/U41 -> #REF! | W41: =+T41/#REF! -> #REF! | X41: =+W41-V41 -> #REF!
A42: 40717 | C42: Greene, Michael | E42: 25000 | G42: 0.08 | H42: 0.15 | I42: 5000000 | J42: Preferred | L42: =ROUND(($E$3-A42)/360*E42*G42,2) -> #REF! | N42: =+E42+L42 -> #REF! | P42: =+I42 -> 5000000 | R42: =+P42/$I$36 -> 1 | T42: =ROUND((N42)/R42,2) -> #REF! | U42: =+P42/#REF! -> #REF! | V42: =+N42/U42 -> #REF! | W42: =+T42/#REF! -> #REF! | X42: =+W42-V42 -> #REF!
A43: 40717 | C43: Robison, Keith | E43: 10000 | G43: 0.08 | H43: 0.15 | I43: 5000000 | J43: Preferred | L43: =ROUND(($E$3-A43)/360*E43*G43,2) -> #REF! | N43: =+E43+L43 -> #REF! | P43: =+I43 -> 5000000 | R43: =+P43/$I$36 -> 1 | T43: =ROUND((N43)/R43,2) -> #REF! | U43: =+P43/#REF! -> #REF! | V43: =+N43/U43 -> #REF! | W43: =+T43/#REF! -> #REF! | X43: =+W43-V43 -> #REF!
A44: 40717 | C44: Ballway, Edward Shareholder Notes Payable | E44: 5000 | G44: 0.08 | H44: 0.15 | I44: 5000000 | J44: Preferred | L44: =ROUND(($E$3-A44)/360*E44*G44,2) -> #REF! | N44: =+E44+L44 -> #REF! | P44: =+I44 -> 5000000 | R44: =+P44/$I$36 -> 1 | T44: =ROUND((N44)/R44,2) -> #REF! | U44: =+P44/#REF! -> #REF! | V44: =+N44/U44 -> #REF! | W44: =+T44/#REF! -> #REF! | X44: =+W44-V44 -> #REF!
A45: 40717 | C45: Kalina, Richard Shareholder Notes Payable | E45: 5000 | G45: 0.08 | H45: 0.15 | I45: 5000000 | J45: Preferred | L45: =ROUND(($E$3-A45)/360*E45*G45,2) -> #REF! | N45: =+E45+L45 -> #REF! | P45: =+I45 -> 5000000 | R45: =+P45/$I$36 -> 1 | T45: =ROUND((N45)/R45,2) -> #REF! | U45: =+P45/#REF! -> #REF! | V45: =+N45/U45 -> #REF! | W45: =+T45/#REF! -> #REF! | X45: =+W45-V45 -> #REF!
E47: =SUM(E7:E46) -> 1915000 | L47: =SUM(L7:L46) -> #REF! | N47: =SUM(N7:N46) -> #REF! | T47: =SUM(T7:T46) -> #REF!
C52: Pre-Money Valuation | L52: =#REF! -> #REF!
...

Sheet Summary investment
A1: Chequed
A2: Convertible Debt
A3: Assumed Date of Transaction | C3: =#REF! -> #REF!
A4: Assumed Purchase Price per Share | C4: =+#REF! -> #REF!
A6: Account | C6: Principle on Notes | E6: Interest on Notes | G6: Amount to Convert | I6: Shares Purchased | K6: Cash Refund | M6: % ownership
A7: Ali, Nasir | C7: =+'Conv Debt'!E18 -> 5000 | E7: =+'Conv Debt'!L18 -> #REF! | G7: =+'Conv Debt'!N18 -> #REF! | I7: =ROUNDDOWN(G7/$C$4,0) -> #REF! | K7: =ROUND(+G7-I7*$C$4,2) -> #REF! | M7: =+I7/#REF! -> #REF!
A8: Babinec, Martin | C8: =+'Conv Debt'!E7+'Conv Debt'!E29+'Conv Debt'!E34+'Conv Debt'!E36 -> 140000 | E8: =+'Conv Debt'!L7+'Conv Debt'!L29+'Conv Debt'!L34+'Conv Debt'!L36 -> #REF! | G8: =+'Conv Debt'!N7+'Conv Debt'!N29+'Conv Debt'!N34+'Conv Debt'!N36 -> #REF! | I8: =ROUNDDOWN(G8/$C$4,0) -> #REF! | K8: =ROUND(+G8-I8*$C$4,2) -> #REF! | M8: =+I8/#REF! -> #REF!
A9: Ballway, Edward | C9: =+'Conv Debt'!E19+'Conv Debt'!E44 -> 10000 | E9: =+'Conv Debt'!L19+'Conv Debt'!L44 -> #REF! | G9: =+'Conv Debt'!N19+'Conv Debt'!N44 -> #REF! | I9: =ROUNDDOWN(G9/$C$4,0) -> #REF! | K9: =ROUND(+G9-I9*$C$4,2) -> #REF! | M9: =+I9/#REF! -> #REF!
A10: Buckhout, Craig | C10: =+'Conv Debt'!E20 -> 5000 | E10: =+'Conv Debt'!L20 -> #REF! | G10: =+'Conv Debt'!N20 -> #REF! | I10: =ROUNDDOWN(G10/$C$4,0) -> #REF! | K10: =ROUND(+G10-I10*$C$4,2) -> #REF! | M10: =+I10/#REF! -> #REF!
A11: Cummins, Douglas | C11: =+'Conv Debt'!E27 -> 25000 | E11: =+'Conv Debt'!L27 -> #REF! | G11: =+'Conv Debt'!N27 -> #REF! | I11: =ROUNDDOWN(G11/$C$4,0) -> #REF! | K11: =ROUND(+G11-I11*$C$4,2) -> #REF! | M11: =+I11/#REF! -> #REF!
A12: Ehinger, George | C12: =+'Conv Debt'!E8 -> 10000 | E12: =+'Conv Debt'!L8 -> #REF! | G12: =+'Conv Debt'!N8 -> #REF! | I12: =ROUNDDOWN(G12/$C$4,0) -> #REF! | K12: =ROUND(+G12-I12*$C$4,2) -> #REF! | M12: =+I12/#REF! -> #REF!
A13: Flack, James | C13: =+'Conv Debt'!E32 -> 60000 | E13: =+'Conv Debt'!L32 -> #REF! | G13: =+'Conv Debt'!N32 -> #REF! | I13: =ROUNDDOWN(G13/$C$4,0) -> #REF! | K13: =ROUND(+G13-I13*$C$4,2) -> #REF! | M13: =+I13/#REF! -> #REF!
A14: Glodberg, Leonard and Harlean | C14: =+'Conv Debt'!E40 -> 25000 | E14: =+'Conv Debt'!L40 -> #REF! | G14: =+'Conv Debt'!N40 -> #REF! | I14: =ROUNDDOWN(G14/$C$4,0) -> #REF! | K14: =ROUND(+G14-I14*$C$4,2) -> #REF! | M14: =+I14/#REF! -> #REF!
A15: Gough, Matthew | C15: =+'Conv Debt'!E9 -> 20000 | E15: =+'Conv Debt'!L9 -> #REF! | G15: =+'Conv Debt'!N9 -> #REF! | I15: =ROUNDDOWN(G15/$C$4,0) -> #REF! | K15: =ROUND(+G15-I15*$C$4,2) -> #REF! | M15: =+I15/#REF! -> #REF!
A16: Grainger, Bradley | C16: =+'Conv Debt'!E21 -> 5000 | E16: =+'Conv Debt'!L21 -> #REF! | G16: =+'Conv Debt'!N21 -> #REF! | I16: =ROUNDDOWN(G16/$C$4,0) -> #REF! | K16: =ROUND(+G16-I16*$C$4,2) -> #REF! | M16: =+I16/#REF! -> #REF!
A17: Greene, Michael | C17: =+'Conv Debt'!E42 -> 25000 | E17: =+'Conv Debt'!L42 -> #REF! | G17: =+'Conv Debt'!N42 -> #REF! | I17: =ROUNDDOWN(G17/$C$4,0) -> #REF! | K17: =ROUND(+G17-I17*$C$4,2) -> #REF! | M17: =+I17/#REF! -> #REF!
A18: Greener, William | C18: =+'Conv Debt'!E24+'Conv Debt'!E38 -> 10000 | E18: =+'Conv Debt'!L24+'Conv Debt'!L38 -> #REF! | G18: =+'Conv Debt'!N24+'Conv Debt'!N38 -> #REF! | I18: =ROUNDDOWN(G18/$C$4,0) -> #REF! | K18: =ROUND(+G18-I18*$C$4,2) -> #REF! | M18: =+I18/#REF! -> #REF!
A19: Hollander, Scott | C19: =+'Conv Debt'!E15 -> 15000 | E19: =+'Conv Debt'!L15 -> #REF! | G19: =+'Conv Debt'!N15 -> #REF! | I19: =ROUNDDOWN(G19/$C$4,0) -> #REF! | K19: =ROUND(+G19-I19*$C$4,2) -> #REF! | M19: =+I19/#REF! -> #REF!
A20: James, Andres | C20: =+'Conv Debt'!E10+'Conv Debt'!E14+'Conv Debt'!E30 -> 100000 | E20: =+'Conv Debt'!L10+'Conv Debt'!L14+'Conv Debt'!L30 -> #REF! | G20: =+'Conv Debt'!N10+'Conv Debt'!N14+'Conv Debt'!N30 -> #REF! | I20: =ROUNDDOWN(G20/$C$4,0) -> #REF! | K20: =ROUND(+G20-I20*$C$4,2) -> #REF! | M20: =+I20/#REF! -> #REF!
A21: Joepa Investments, LLC | C21: =+'Conv Debt'!E11+'Conv Debt'!E16+'Conv Debt'!E31 -> 120000 | E21: =+'Conv Debt'!L11+'Conv Debt'!L16+'Conv Debt'!L31 -> #REF! | G21: =+'Conv Debt'!N11+'Conv Debt'!N16+'Conv Debt'!N31 -> #REF! | I21: =ROUNDDOWN(G21/$C$4,0) -> #REF! | K21: =ROUND(+G21-I21*$C$4,2) -> #REF! | M21: =+I21/#REF! -> #REF!
A22: Kalina, Richard | C22: =+'Conv Debt'!E22+'Conv Debt'!E45 -> 10000 | E22: =+'Conv Debt'!L22+'Conv Debt'!L45 -> #REF! | G22: =+'Conv Debt'!N22+'Conv Debt'!N45 -> #REF! | I22: =ROUNDDOWN(G22/$C$4,0) -> #REF! | K22: =ROUND(+G22-I22*$C$4,2) -> #REF! | M22: =+I22/#REF! -> #REF!
A23: Kilburn, Todd | C23: =+'Conv Debt'!E12 -> 15000 | E23: =+'Conv Debt'!L12 -> #REF! | G23: =+'Conv Debt'!N12 -> #REF! | I23: =ROUNDDOWN(G23/$C$4,0) -> #REF! | K23: =ROUND(+G23-I23*$C$4,2) -> #REF! | M23: =+I23/#REF! -> #REF!
A24: Moran, Daniel | C24: =+'Conv Debt'!E13 -> 20000 | E24: =+'Conv Debt'!L13 -> #REF! | G24: =+'Conv Debt'!N13 -> #REF! | I24: =ROUNDDOWN(G24/$C$4,0) -> #REF! | K24: =ROUND(+G24-I24*$C$4,2) -> #REF! | M24: =+I24/#REF! -> #REF!
A25: Rand Capital | C25: =+'Conv Debt'!E35+'Conv Debt'!E39 -> 500000 | E25: =+'Conv Debt'!L35+'Conv Debt'!L39 -> #REF! | G25: =+'Conv Debt'!N35+'Conv Debt'!N39 -> #REF! | I25: =ROUNDDOWN(G25/$C$4,0) -> #REF! | K25: =ROUND(+G25-I25*$C$4,2) -> #REF! | M25: =+I25/#REF! -> #REF!
A26: Robison, Keith | C26: =+'Conv Debt'!E43 -> 10000 | E26: =+'Conv Debt'!L43 -> #REF! | G26: =+'Conv Debt'!N43 -> #REF! | I26: =ROUNDDOWN(G26/$C$4,0) -> #REF! | K26: =ROUND(+G26-I26*$C$4,2) -> #REF! | M26: =+I26/#REF! -> #REF!
A27: Rock Cut, LLC | C27: =+'Conv Debt'!E41 -> 25000 | E27: =+'Conv Debt'!L41 -> #REF! | G27: =+'Conv Debt'!N41 -> #REF! | I27: =ROUNDDOWN(G27/$C$4,0) -> #REF! | K27: =ROUND(+G27-I27*$C$4,2) -> #REF! | M27: =+I27/#REF! -> #REF!
A28: SCF-CNY-2010 LLC | C28: =+'Conv Debt'!E37 -> 150000 | E28: =+'Conv Debt'!L37 -> #REF! | G28: =+'Conv Debt'!N37 -> #REF! | I28: =ROUNDDOWN(G28/$C$4,0) -> #REF! | K28: =ROUND(+G28-I28*$C$4,2) -> #REF! | M28: =+I28/#REF! -> #REF!
A29: Seed Capital of Central NY | C29: =+'Conv Debt'!E17+'Conv Debt'!E28 -> 250000 | E29: =+'Conv Debt'!L17+'Conv Debt'!L28 -> #REF! | G29: =+'Conv Debt'!N17+'Conv Debt'!N28 -> #REF! | I29: =ROUNDDOWN(G29/$C$4,0) -> #REF! | K29: =ROUND(+G29-I29*$C$4,2) -> #REF! | M29: =+I29/#REF! -> #REF!
A30: Suhowatsky, Stephen | C30: =+'Conv Debt'!E25 -> 5000 | E30: =+'Conv Debt'!L25 -> #REF! | G30: =+'Conv Debt'!N25 -> #REF! | I30: =ROUNDDOWN(G30/$C$4,0) -> #REF! | K30: =ROUND(+G30-I30*$C$4,2) -> #REF! | M30: =+I30/#REF! -> #REF!
A31: Viggiano, Marc | C31: =+'Conv Debt'!E23 -> 5000 | E31: =+'Conv Debt'!L23 -> #REF! | G31: =+'Conv Debt'!N23 -> #REF! | I31: =ROUNDDOWN(G31/$C$4,0) -> #REF! | K31: =ROUND(+G31-I31*$C$4,2) -> #REF! | M31: =+I31/#REF! -> #REF!
A32: Wolpoff, Stuart | C32: =+'Conv Debt'!E33 -> 50000 | E32: =+'Conv Debt'!L33 -> #REF! | G32: =+'Conv Debt'!N33 -> #REF! | I32: =ROUNDDOWN(G32/$C$4,0) -> #REF! | K32: =ROUND(+G32-I32*$C$4,2) -> #REF! | M32: =+I32/#REF! -> #REF!
C34: =SUM(C7:C33) -> 1615000 | E34: =SUM(E7:E33) -> #REF! | G34: =SUM(G7:G33) -> #REF! | I34: =SUM(I7:I33) -> #REF! | K34: =SUM(K7:K33) -> #REF!

Sheet Cap Model with Waterfall
D1: Series Seed Conversion Ratio: | E1: 1 | G1: Option Exercise Price= | J1: =G5/4 -> 0.348275
D2: Negotiated Pre-Money Valuation | E2: 8000000
D3: Convertible Debt Purchase Power: | E3: ='Convertible Debt'!I11 -> 944041.1
D4: "Effective" Pre-Money Valuation: | E4: =E2-E3 -> 7055958.9
D5: Series Seed Price: | E5: =E4/D30 -> 1.3930817 | G5: =ROUND(E5,4) -> 1.3931
D6: Series Seed LP X: | E6: 1
A7: Shareholder/Optionholder | B7: Common Shares | C7: Common Options | D7: Total Fully Diluted Shares | E7: % Ownership | G7: Convertible Debt Purchase Power | H7: Series Seed Purchased with Convertible Debt | I7: Series Seed $$ Investments | J7: Series Seed Purchased for New $$ | K7: Total Series Seed Preferred | L7: Total Shares | M7: Total % as Converted | O7: PS Only Shares | P7: PS Only % Vote | R7: Investment $ | S7: Return From Exit Assuming Participating Preferred | T7: Return From Exit Assuming Non-Participating Preferred
A8: Joe | B8: 2300000 | D8: =SUM(B8:C8) -> 2300000 | E8: =D8/D$30 -> 0.45409674 | L8: =B8+C8+H8+J8 -> 2300000 | M8: =L8/L$30 -> 0.34086154 | O8: =K8 -> 0 | P8: =O8/$O$30 -> 0 | R8: 1 | S8: =(B8+C8+K8)*C$43+(K8*G$5*E$6) -> 12494606 | T8: =L8*C$52 -> 13293600
A9: Tom | B9: 1400000 | D9: =SUM(B9:C9) -> 1400000 | E9: =D9/D$30 -> 0.27640671 | L9: =B9+C9+H9+J9 -> 1400000 | M9: =L9/L$30 -> 0.20748093 | O9: =K9 -> 0 | P9: =O9/$O$30 -> 0 | R9: 1 | S9: =(B9+C9+K9)*C$43+(K9*G$5*E$6) -> 7605412.6 | T9: =L9*C$52 -> 8091756.5
A10: George | B10: 100000 | D10: =SUM(B10:C10) -> 100000 | E10: =D10/D$30 -> 0.019743337 | L10: =B10+C10+H10+J10 -> 100000 | M10: =L10/L$30 -> 0.014820067 | O10: =K10 -> 0 | P10: =O10/$O$30 -> 0 | R10: 1 | S10: =(B10+C10+K10)*C$43+(K10*G$5*E$6) -> 543243.76 | T10: =L10*C$52 -> 577982.6
A11: Lou | B11: 130000 | D11: =SUM(B11:C11) -> 130000 | E11: =D11/D$30 -> 0.025666338 | L11: =B11+C11+H11+J11 -> 130000 | M11: =L11/L$30 -> 0.019266087 | O11: =K11 -> 0 | P11: =O11/$O$30 -> 0 | R11: 1 | S11: =(B11+C11+K11)*C$43+(K11*G$5*E$6) -> 706216.89 | T11: =L11*C$52 -> 751377.39
A12: Toby | B12: 259000 | D12: =SUM(B12:C12) -> 259000 | E12: =D12/D$30 -> 0.051135242 | L12: =B12+C12+H12+J12 -> 259000 | M12: =L12/L$30 -> 0.038383973 | O12: =K12 -> 0 | P12: =O12/$O$30 -> 0 | R12: 1 | S12: =(B12+C12+K12)*C$43+(K12*G$5*E$6) -> 1407001.3 | T12: =L12*C$52 -> 1496974.9
A13: Susan | B13: 30000 | D13: =SUM(B13:C13) -> 30000 | E13: =D13/D$30 -> 0.005923001 | L13: =B13+C13+H13+J13 -> 30000 | M13: =L13/L$30 -> 0.00444602 | O13: =K13 -> 0 | P13: =O13/$O$30 -> 0 | R13: 1 | S13: =(B13+C13+K13)*C$43+(K13*G$5*E$6) -> 162973.13 | T13: =L13*C$52 -> 173394.78
A14: Jake | B14: 45000 | C14: 40000 | D14: =SUM(B14:C14) -> 85000 | E14: =D14/D$30 -> 0.016781836 | L14: =B14+C14+H14+J14 -> 85000 | M14: =L14/L$30 -> 0.012597057 | O14: =K14 -> 0 | P14: =O14/$O$30 -> 0 | R14: =J$1*C14 -> 13931 | S14: =(B14+C14+K14)*C$43+(K14*G$5*E$6) -> 461757.19 | T14: =L14*C$52 -> 491285.21
A15: Marge | C15: 20000 | D15: =SUM(B15:C15) -> 20000 | E15: =D15/D$30 -> 0.0039486673 | L15: =B15+C15+H15+J15 -> 20000 | M15: =L15/L$30 -> 0.0029640134 | O15: =K15 -> 0 | P15: =O15/$O$30 -> 0 | R15: =J$1*C15 -> 6965.5 | S15: =(B15+C15+K15)*C$43+(K15*G$5*E$6) -> 108648.75 | T15: =L15*C$52 -> 115596.52
A16: Francine | C16: 13000 | D16: =SUM(B16:C16) -> 13000 | E16: =D16/D$30 -> 0.0025666338 | L16: =B16+C16+H16+J16 -> 13000 | M16: =L16/L$30 -> 0.0019266087 | O16: =K16 -> 0 | P16: =O16/$O$30 -> 0 | R16: =J$1*C16 -> 4527.575 | S16: =(B16+C16+K16)*C$43+(K16*G$5*E$6) -> 70621.689 | T16: =L16*C$52 -> 75137.739
A17: Bob | C17: 24000 | D17: =SUM(B17:C17) -> 24000 | E17: =D17/D$30 -> 0.0047384008 | L17: =B17+C17+H17+J17 -> 24000 | M17: =L17/L$30 -> 0.003556816 | O17: =K17 -> 0 | P17: =O17/$O$30 -> 0 | R17: =J$1*C17 -> 8358.6 | S17: =(B17+C17+K17)*C$43+(K17*G$5*E$6) -> 130378.5 | T17: =L17*C$52 -> 138715.83
A18: Ralph | C18: 4000 | D18: =SUM(B18:C18) -> 4000 | E18: =D18/D$30 -> 0.00078973346 | L18: =B18+C18+H18+J18 -> 4000 | M18: =L18/L$30 -> 0.00059280267 | O18: =K18 -> 0 | P18: =O18/$O$30 -> 0 | R18: =J$1*C18 -> 1393.1 | S18: =(B18+C18+K18)*C$43+(K18*G$5*E$6) -> 21729.75 | T18: =L18*C$52 -> 23119.304
A19: Available Option Pool | C19: 700000 | D19: =SUM(B19:C19) -> 700000 | E19: =D19/D$30 -> 0.13820336 | L19: =B19+C19+H19+J19 -> 700000 | M19: =L19/L$30 -> 0.10374047 | O19: =K19 -> 0 | P19: =O19/$O$30 -> 0 | R19: =J$1*C19 -> 243792.5 | S19: =(B19+C19+K19)*C$43+(K19*G$5*E$6) -> 3802706.3 | T19: =L19*C$52 -> 4045878.2
D20: =SUM(B20:C20) -> 0 | E20: =D20/D$30 -> 0 | L20: =B20+C20+H20+J20 -> 0 | M20: =L20/L$30 -> 0 | S20: =(B20+C20+K20)*C$43+(K20*G$5*E$6) -> 0 | T20: =L20*C$52 -> 0
A21: New Investor 1 | D21: =SUM(B21:C21) -> 0 | E21: =D21/D$30 -> 0 | I21: 500000 | J21: =I21/G$5 -> 358911.78 | K21: =J21+H21 -> 358911.78 | L21: =B21+C21+H21+J21 -> 358911.78 | M21: =L21/L$30 -> 0.053190965 | O21: =K21 -> 358911.78 | P21: =O21/$O$30 -> 0.21330684 | R21: =I21 -> 500000 | S21: =(B21+C21+K21)*C$43+(K21*G$5*E$6) -> 2449765.8 | T21: =L21*C$52 -> 2074447.7
A22: New Investor 2 | D22: =SUM(B22:C22) -> 0 | E22: =D22/D$30 -> 0 | I22: 500000 | J22: =I22/G$5 -> 358911.78 | K22: =J22+H22 -> 358911.78 | L22: =B22+C22+H22+J22 -> 358911.78 | M22: =L22/L$30 -> 0.053190965 | O22: =K22 -> 358911.78 | P22: =O22/$O$30 -> 0.21330684 | R22: =I22 -> 500000 | S22: =(B22+C22+K22)*C$43+(K22*G$5*E$6) -> 2449765.8 | T22: =L22*C$52 -> 2074447.7
A23: New Investor 3 | D23: =SUM(B23:C23) -> 0 | E23: =D23/D$30 -> 0 | I23: 250000 | J23: =I23/G$5 -> 179455.89 | K23: =J23+H23 -> 179455.89 | L23: =B23+C23+H23+J23 -> 179455.89 | M23: =L23/L$30 -> 0.026595483 | O23: =K23 -> 179455.89 | P23: =O23/$O$30 -> 0.10665342 | R23: =I23 -> 250000 | S23: =(B23+C23+K23)*C$43+(K23*G$5*E$6) -> 1224882.9 | T23: =L23*C$52 -> 1037223.8
A24: CD Holder #1 | D24: =SUM(B24:C24) -> 0 | E24: =D24/D$30 -> 0 | G24: ='Convertible Debt'!I5 -> 674315.07 | H24: =G24/G$5 -> 484039.24 | I24: 150000 | J24: =I24/G$5 -> 107673.53 | K24: =J24+H24 -> 591712.78 | L24: =B24+C24+H24+J24 -> 591712.78 | M24: =L24/L$30 -> 0.087692229 | O24: =K24 -> 591712.78 | P24: =O24/$O$30 -> 0.35166409 | R24: ='Convertible Debt'!B5 -> 500000 | S24: =(B24+C24+K24)*C$43+(K24*G$5*E$6) -> 4038757.8 | T24: =L24*C$52 -> 3419996.9
A25: CD Holder #2 | D25: =SUM(B25:C25) -> 0 | E25: =D25/D$30 -> 0 | G25: ='Convertible Debt'!I6 -> 67431.507 | H25: =G25/G$5 -> 48403.924 | K25: =J25+H25 -> 48403.924 | L25: =B25+C25+H25+J25 -> 48403.924 | M25: =L25/L$30 -> 0.0071734939 | O25: =K25 -> 48403.924 | P25: =O25/$O$30 -> 0.028767203 | R25: ='Convertible Debt'!B6 -> 50000 | S25: =(B25+C25+K25)*C$43+(K25*G$5*E$6) -> 330382.8 | T25: =L25*C$52 -> 279766.26
A26: CD Holder #3 | D26: =SUM(B26:C26) -> 0 | E26: =D26/D$30 -> 0 | G26: ='Convertible Debt'!I7 -> 101147.26 | H26: =G26/G$5 -> 72605.886 | K26: =J26+H26 -> 72605.886 | L26: =B26+C26+H26+J26 -> 72605.886 | M26: =L26/L$30 -> 0.010760241 | O26: =K26 -> 72605.886 | P26: =O26/$O$30 -> 0.043150805 | R26: ='Convertible Debt'!B7 -> 75000 | S26: =(B26+C26+K26)*C$43+(K26*G$5*E$6) -> 495574.21 | T26: =L26*C$52 -> 419649.39
A27: CD Holder #4 | D27: =SUM(B27:C27) -> 0 | E27: =D27/D$30 -> 0 | G27: ='Convertible Debt'!I8 -> 67431.507 | H27: =G27/G$5 -> 48403.924 | K27: =J27+H27 -> 48403.924 | L27: =B27+C27+H27+J27 -> 48403.924 | M27: =L27/L$30 -> 0.0071734939 | O27: =K27 -> 48403.924 | P27: =O27/$O$30 -> 0.028767203 | R27: ='Convertible Debt'!B8 -> 50000 | S27: =(B27+C27+K27)*C$43+(K27*G$5*E$6) -> 330382.8 | T27: =L27*C$52 -> 279766.26
A28: CD Holder #5 | D28: =SUM(B28:C28) -> 0 | E28: =D28/D$30 -> 0 | G28: ='Convertible Debt'!I9 -> 33715.753 | H28: =G28/G$5 -> 24201.962 | K28: =J28+H28 -> 24201.962 | L28: =B28+C28+H28+J28 -> 24201.962 | M28: =L28/L$30 -> 0.0035867469 | O28: =K28 -> 24201.962 | P28: =O28/$O$30 -> 0.014383602 | R28: ='Convertible Debt'!B9 -> 25000 | S28: =(B28+C28+K28)*C$43+(K28*G$5*E$6) -> 165191.4 | T28: =L28*C$52 -> 139883.13
A30: Totals: | B30: =SUM(B8:B29) -> 4264000 | C30: =SUM(C8:C29) -> 801000 | D30: =SUM(D8:D29) -> 5065000 | E30: =SUM(E8:E29) -> 1 | G30: =SUM(G8:G29) -> 944041.1 | H30: =SUM(H8:H29) -> 677654.94 | I30: =SUM(I8:I29) -> 1400000 | J30: =SUM(J8:J29) -> 1004953 | K30: =SUM(K8:K29) -> 1682607.9 | L30: =SUM(L8:L29) -> 6747607.9 | M30: =SUM(M8:M29) -> 1 | O30: =SUM(O8:O29) -> 1682607.9 | P30: =SUM(P8:P29) -> 1 | R30: =SUM(R8:R29) -> 2228974.3 | S30: =SUM(S8:S29) -> 39000000 | T30: =SUM(T8:T29) -> 39000000
G31: ='Convertible Debt'!I11 -> 944041.1 | L31: =D30+H30+J30 -> 6747607.9
A33: * Denotes Restricted Stock
B35: Waterfall with Participating Preferred:
B36: Exit Value: | C36: 40000000 | J36: Effective Pre-Money Valuation = | M36: =E4 -> 7055958.9
B37: Transaction Expenses: | C37: -200000 | E37: =1.4/9.4 -> 0.14893617 | J37: $$ Raised in Round plus Con Debt = | M37: =I30+G30 -> 2344041.1
B38: Advisory Fees: | C38: =-(C36*0.02) -> -800000 | E38: =SUM(J21:J24)/L30 -> 0.1489347 | J38: Post Money Valuation = | M38: =SUM(M36:M37) -> 9400000
B39: Debt: | C39: 0 | J39: Double Check on PMV = | M39: =E2+I30 -> 9400000
B40: Distributable Proceeds: | C40: =SUM(C36:C39) -> 39000000
B41: Series Seed aggregate LP: | C41: =K30*G5*E6 -> 2344041.1
B42: Balance for Common Shareholders: | C42: =C40-C41 -> 36655959
B43: Value per Share of Common Stock: | C43: =C42/L30 -> 5.4324376
...

Sheet Convertible Debt
A1: Conversion Date | C1: 45291
A2: Conversion Discount Rate: | C2: 0.2
A4: Holder | B4: Amount | C4: Issue Date | D4: Interest Rate | E4: Discount Rate | F4: Days to Close | G4: Interest (simple) | H4: Total $ at Close | I4: Purchase Power | J4: Purchase Power = equivalent $ after discount
A5: CD Holder #1 | B5: 500000 | C5: 44927 | D5: 0.08 | E5: =C$2 -> 0.2 | F5: =DAYS360(C5,$C$1) -> 360 | G5: =B5*D5*(F5/365) -> 39452.055 | H5: =B5+G5 -> 539452.05 | I5: =H5/(1-E5) -> 674315.07
A6: CD Holder #2 | B6: 50000 | C6: 44927 | D6: 0.08 | E6: =C$2 -> 0.2 | F6: =DAYS360(C6,$C$1) -> 360 | G6: =B6*D6*(F6/365) -> 3945.2055 | H6: =B6+G6 -> 53945.205 | I6: =H6/(1-E6) -> 67431.507
A7: CD Holder #3 | B7: 75000 | C7: 44927 | D7: 0.08 | E7: =C$2 -> 0.2 | F7: =DAYS360(C7,$C$1) -> 360 | G7: =B7*D7*(F7/365) -> 5917.8082 | H7: =B7+G7 -> 80917.808 | I7: =H7/(1-E7) -> 101147.26
A8: CD Holder #4 | B8: 50000 | C8: 44927 | D8: 0.08 | E8: =C$2 -> 0.2 | F8: =DAYS360(C8,$C$1) -> 360 | G8: =B8*D8*(F8/365) -> 3945.2055 | H8: =B8+G8 -> 53945.205 | I8: =H8/(1-E8) -> 67431.507
A9: CD Holder #5 | B9: 25000 | C9: 44927 | D9: 0.08 | E9: =C$2 -> 0.2 | F9: =DAYS360(C9,$C$1) -> 360 | G9: =B9*D9*(F9/365) -> 1972.6027 | H9: =B9+G9 -> 26972.603 | I9: =H9/(1-E9) -> 33715.753
A11: TOTAL | B11: =SUM(B5:B9) -> 700000 | G11: =SUM(G5:G9) -> 55232.877 | H11: =SUM(H5:H9) -> 755232.88 | I11: =SUM(I5:I9) -> 944041.1
